BEGIN:VCALENDAR
VERSION:2.0
PRODID:-//eventon.com NONSGML v1.0//EN
BEGIN:VEVENT
UID:69ea3e87f31fb
DTSTAMP:20260423T114511
DTSTART:20260702T213000Z
DTEND:20260703T020000Z
TZID:America/New_York
LOCATION:1800 Reston Row Plaza 1800 Reston Row Plaza
SUMMARY:Celebrate America 250 With Bruce In The USA
DESCRIPTION: Red\,  White\,  & Boom! Reston Station is throwing a star-spangled celebration for America’s 250th! Join us for live music\,  fireworks\,  food\,  and fun. Event Kickoff: 5:30pm Star Spangled Banner Live: 7:20pm Showtime: 7:30pm Bruce In The USA &#8211; A Tribute to Bruce Springsteen Fireworks: 9:15pm Sip-n-Stroll • Food Vendors •[..]\nhttps://restonstation.com/america-250/
URL:https://restonstation.com/america-250/
END:VEVENT
END:VCALENDAR