BEGIN:VCALENDAR
VERSION:2.0
PRODID:-//eventon.com NONSGML v1.0//EN
BEGIN:VEVENT
UID:69ea3f79724ae
DTSTAMP:20260423T114913
DTSTART:20260702T233000Z
DTEND:20260703T010000Z
TZID:America/New_York
LOCATION:1800 Reston Row Plaza 1800 Reston Row Plaza
SUMMARY:Celebrate America 250 Live Music: Bruce In The USA - A Tribute Band To Bruce Springsteen At Celebrate America 250 Event
DESCRIPTION: Red\,  White\,  & Boom! Reston Station is throwing a star-spangled celebration for America’s 250th! Join us for family-friendly fun\,  a live DJ\,  a splash pad\,  games\,  sip-n-stroll\,  food\,  live music\,  fireworks\,  photo booth\,  ice cream\,  and more! 1800 RESTON ROW PLAZA Event Kickoff: 5:30pm Star Spangled Banner Live: 7:20pm Bruce[..]\nhttps://restonstation.com/america-250/
URL:https://restonstation.com/america-250/
END:VEVENT
END:VCALENDAR